BEGIN:VCALENDAR
VERSION:2.0
PRODID:-//Neobruja - ECPv6.15.20//NONSGML v1.0//EN
CALSCALE:GREGORIAN
METHOD:PUBLISH
X-ORIGINAL-URL:https://neobruja.com
X-WR-CALDESC:Eventos para Neobruja
REFRESH-INTERVAL;VALUE=DURATION:PT1H
X-Robots-Tag:noindex
X-PUBLISHED-TTL:PT1H
BEGIN:VTIMEZONE
TZID:America/Mexico_City
BEGIN:STANDARD
TZOFFSETFROM:-0600
TZOFFSETTO:-0600
TZNAME:CST
DTSTART:20230101T000000
END:STANDARD
END:VTIMEZONE
BEGIN:VEVENT
DTSTART;TZID=America/Mexico_City:20240413T110000
DTEND;TZID=America/Mexico_City:20240413T130000
DTSTAMP:20260421T160045
CREATED:20240326T183701Z
LAST-MODIFIED:20240326T210254Z
UID:2226-1713006000-1713013200@neobruja.com
SUMMARY:Ceremonia Presencial: RAYO DIVINO
DESCRIPTION:Activá a la NEOBRUJA que vive en vos con una ceremonia de conexión del cielo con la Tierra.\nHaremos una vaporización para activar nuestro poder creativo\, tomaremos cacao para aceptar los regalos que ya están dados para nosotras y compartiremos rapé para alinearnos al acá y ahora. \n \n \n¿Cuáles son los BENEFICIOS de esta CEREMONIA?\n\n Mediante la medicina del RAPÉ\, vas a: \n\nLimpiar tu sistema respiratorio incluyendo tu glándula pineal\nTraer claridad mental en en tus ideas\, pensamientos\nAnclarte en el acá y ahora\n\nMediante la medicina del CACAO vas a: \n\nAbrir tu corazón y conectar con tu mundo emocional\nEscuchar a tu deseo con mayor claridad\nDisolver las barreras que limitan tu conexión con tus deseos del alma\nAbrirte a recibir aquello que sueñas\n\nMediante la VAPORIZACIÓN vas a: \n\nLimpiar y descongestionar tu útero\nArmonizarlo y llenarlo de energía de amor y de fortaleza\n\n  \n   \nIMPORTANTE: \n\nCUPOS LIMITADOS – 7 personas\nSolo para mujeres o cuerpos menstruantes\nLa dirección exacta te la enviaremos luego de reservar tu lugar\nQué tienes que traer: mat\, cobija\, y bowl o recipiente para tu vaporización y ofrenda para el altar (vela\, elementos de poder y frutas o semillas para compartir)\nSi hay alguna medicina que prefieres NO tomar\, puedes elegirlo\, solo avísale a Joha\n\n  \n  \nELIGE TU TICKET: \n\nTicket de acceso a la Ceremonia: $450MXN\nTicket de acceso a la Ceremonia + 1 Pack de Semillas de CACAO NEOBRUJA con 45%OFF: $550MXN								\n				\n					\n				\n		\n					\n				\n				\n							\n			\n		\n						\n				\n					\n				\n		\n					\n				\n				\n									\n					\n						\n									Ticket 1 - Abono por Transferencia Bancaria\n					\n					\n				\n								\n				\n					\n				\n		\n					\n				\n				\n									\n					\n						\n									Ticket 1 - Abono por Tarjeta de Crédito / Débito\n					\n					\n				\n								\n				\n					\n				\n		\n					\n				\n				\n							\n			\n		\n						\n				\n					\n				\n		\n					\n				\n				\n									\n					\n						\n									Ticket 2 - Abono por Transferencia Bancaria\n					\n					\n				\n								\n				\n					\n				\n		\n					\n				\n				\n									\n					\n						\n									Ticket 2 - Abono por trajeta de Crédito / Débito
URL:https://neobruja.com/encuentros/ceremonia-presencial-rayo-divino-2/
LOCATION:Colonia Escandon\, Colonia Escandón\, Ciudad de México\, 11800\, México
CATEGORIES:Ceremonia Presencial
ATTACH;FMTTYPE=image/jpeg:https://neobruja.com/wp-content/uploads/2024/03/new.jpeg
ORGANIZER;CN="Neobruja":MAILTO:contacto@neobruja.com
END:VEVENT
BEGIN:VEVENT
DTSTART;TZID=America/Mexico_City:20240217T110000
DTEND;TZID=America/Mexico_City:20240217T130000
DTSTAMP:20260421T160045
CREATED:20240103T152129Z
LAST-MODIFIED:20240123T144801Z
UID:1751-1708167600-1708174800@neobruja.com
SUMMARY:Ceremonia Presencial: RAYO DIVINO
DESCRIPTION:Activá a la NEOBRUJA que vive en vos con una ceremonia de conexión del cielo con la Tierra.\nHaremos una vaporización para activar nuestro poder creativo\, tomaremos cacao para aceptar los regalos que ya están dados para nosotras y compartiremos rapé para alinearnos al acá y ahora. \n \n \n¿Cuáles son los BENEFICIOS de esta CEREMONIA?\n\n Mediante la medicina del RAPÉ\, vas a: \n\nLimpiar tu sistema respiratorio incluyendo tu glándula pineal\nTraer claridad mental en en tus ideas\, pensamientos\nAnclarte en el acá y ahora\n\nMediante la medicina del CACAO vas a: \n\nAbrir tu corazón y conectar con tu mundo emocional\nEscuchar a tu deseo con mayor claridad\nDisolver las barreras que limitan tu conexión con tus deseos del alma\nAbrirte a recibir aquello que sueñas\n\nMediante la VAPORIZACIÓN vas a: \n\nLimpiar y descongestionar tu útero\nArmonizarlo y llenarlo de energía de amor y de fortaleza\n\n  \n   \nIMPORTANTE: \n\nCUPOS LIMITADOS – 7 personas\nSolo para mujeres o cuerpos menstruantes\nLa dirección exacta te la enviaremos luego de reservar tu lugar\nQué tienes que traer: mat\, cobija\, y bowl o recipiente para tu vaporización y ofrenda para el altar (vela\, elementos de poder y frutas o semillas para compartir)\nSi hay alguna medicina que prefieres NO tomar\, puedes elegirlo\, solo avísale a Joha\n\n  \n  \nELIGE TU TICKET: \n\nTicket de acceso a la Ceremonia: $450MXN\nTicket de acceso a la Ceremonia + 1 Pack de Semillas de CACAO NEOBRUJA con 45%OFF: $550MXN								\n				\n					\n				\n		\n					\n				\n				\n							\n			\n		\n						\n				\n					\n				\n		\n					\n				\n				\n									\n					\n						\n									Ticket 1 - Abono por Transferencia Bancaria\n					\n					\n				\n								\n				\n					\n				\n		\n					\n				\n				\n									\n					\n						\n									Ticket 1 - Abono por Tarjeta de Crédito / Débito\n					\n					\n				\n								\n				\n					\n				\n		\n					\n				\n				\n							\n			\n		\n						\n				\n					\n				\n		\n					\n				\n				\n									\n					\n						\n									Ticket 2 - Abono por Transferencia Bancaria\n					\n					\n				\n								\n				\n					\n				\n		\n					\n				\n				\n									\n					\n						\n									Ticket 2 - Abono por trajeta de Crédito / Débito
URL:https://neobruja.com/encuentros/ceremonia-presencial-rayo-divino/
LOCATION:Colonia Escandon\, Colonia Escandón\, Ciudad de México\, 11800\, México
CATEGORIES:Ceremonia Presencial
ATTACH;FMTTYPE=image/png:https://neobruja.com/wp-content/uploads/2024/01/Captura-de-pantalla-2024-01-22-a-las-21.49.23.png
ORGANIZER;CN="Neobruja":MAILTO:contacto@neobruja.com
END:VEVENT
END:VCALENDAR